BEGIN:VCALENDAR
VERSION:2.0
PRODID:-//www.ketchikanarts.org//NONSGML kigkonsult.se iCalcreator 2.30.10/
 /
CALSCALE:GREGORIAN
METHOD:PUBLISH
UID:3aad3d3a-0811-4105-bf55-e34045ae89f0
X-WR-CALDESC:Join Ketchikan Museums on Thursday\, September 2 at 12:00 PM f
 or a virtual Museum Midday program with Megan Smetzer\, author of Painful 
 Beauty: Tlingit Women\, Beadwork\, and the Art of Resilience.\nAt a time w
 hen Indigenous cultural practices were actively being repressed\,\nbeading
  supported cultural continuity\, demonstrating Tlingit women’s resilience\
 ,\nstrength\, and power.\nWorking with museum collection materials\, photo
 graphs\, archives\, and interviews with artists and elders\, Megan Smetzer
  reframes this often overlooked art form as a site of historical negotiati
 ons and contemporary inspirations. She shows how beading gave Tlingit wome
 n the freedom to innovate aesthetically\, assert their clan crests and ide
 ntities\, support tribal sovereignty\, and pass on cultural knowledge.\nPa
 inful Beauty is the first dedicated study of Tlingit beadwork and contribu
 tes to the expanding literature addressing women’s artistic expressions on
  the Northwest Coast.\nListen to Megan Smetzer's discussion of Painful Bea
 uty on the Tongass Historical Museum's Facebook page.\nCopies of Painful B
 eauty are available locally at Parnassus Books and directly from Universit
 y of Washington Pres
X-WR-RELCALID:23eebefe18e51631aa9cfba0ba3f45c7
X-WR-TIMEZONE:America/Anchorage
BEGIN:VTIMEZONE
TZID:America/Anchorage
BEGIN:STANDARD
TZNAME:AKST
DTSTART:20201101T020000
TZOFFSETFROM:-0800
TZOFFSETTO:-0900
RDATE:20211107T020000
RDATE:20221106T020000
END:STANDARD
BEGIN:DAYLIGHT
TZNAME:AKDT
DTSTART:20210314T020000
TZOFFSETFROM:-0900
TZOFFSETTO:-0800
RDATE:20220313T020000
END:DAYLIGHT
END:VTIMEZONE
BEGIN:VEVENT
UID:964d7934-f1f9-4967-8b57-b21993d3a708
DTSTAMP:20260420T230900Z
DESCRIPTION:Join Ketchikan Museums on Thursday\, September 2 at 12:00 PM fo
 r a virtual Museum Midday program with Megan Smetzer\, author of Painful B
 eauty: Tlingit Women\, Beadwork\, and the Art of Resilience.\nAt a time wh
 en Indigenous cultural practices were actively being repressed\,\nbeading 
 supported cultural continuity\, demonstrating Tlingit women’s resilience\,
 \nstrength\, and power.\nWorking with museum collection materials\, photog
 raphs\, archives\, and interviews with artists and elders\, Megan Smetzer 
 reframes this often overlooked art form as a site of historical negotiatio
 ns and contemporary inspirations. She shows how beading gave Tlingit women
  the freedom to innovate aesthetically\, assert their clan crests and iden
 tities\, support tribal sovereignty\, and pass on cultural knowledge.\nPai
 nful Beauty is the first dedicated study of Tlingit beadwork and contribut
 es to the expanding literature addressing women’s artistic expressions on 
 the Northwest Coast.\nListen to Megan Smetzer's discussion of Painful Beau
 ty on the Tongass Historical Museum's Facebook page.\nCopies of Painful Be
 auty are available locally at Parnassus Books and directly from University
  of Washington Pres
DTSTART;TZID=America/Anchorage:20210902T120000
DTEND;TZID=America/Anchorage:20210902T130000
LOCATION:https://www.facebook.com/TongassHistoricalMuseum
SUMMARY:Museum Midday - Tongass Historical Museum
END:VEVENT
END:VCALENDAR
