BEGIN:VCALENDAR
VERSION:2.0
PRODID:-//www.ketchikanarts.org//NONSGML kigkonsult.se iCalcreator 2.30.10/
 /
CALSCALE:GREGORIAN
METHOD:PUBLISH
UID:708afdf9-45de-4317-927a-2d6318ae6ed6
X-WR-CALDESC:First City Players has auditions for the fall musical Pippin! 
 The music and lyrics for  'Pippin' are by Stephen Schwartz\, of 'Wicked' f
 ame! It is a fantastically fun show with opportunities for dancers\, singe
 rs\, and actors. You don't need to be a triple threat! There is room for a
 ll. \nAudition times at 5:30\, 6:30 & 7:30 on August 30 & 31. \nCome be a 
 part of the magic!
X-WR-RELCALID:02f40a701aae6e1a4ab5ed38b0bb9725
X-WR-TIMEZONE:America/Anchorage
BEGIN:VTIMEZONE
TZID:America/Anchorage
BEGIN:STANDARD
TZNAME:AKST
DTSTART:20201101T020000
TZOFFSETFROM:-0800
TZOFFSETTO:-0900
RDATE:20211107T020000
RDATE:20221106T020000
END:STANDARD
BEGIN:DAYLIGHT
TZNAME:AKDT
DTSTART:20210314T020000
TZOFFSETFROM:-0900
TZOFFSETTO:-0800
RDATE:20220313T020000
END:DAYLIGHT
END:VTIMEZONE
BEGIN:VEVENT
UID:4e41de08-6023-49e7-936a-7d82f681eaa1
DTSTAMP:20260421T002202Z
DESCRIPTION:First City Players has auditions for the fall musical Pippin! T
 he music and lyrics for  'Pippin' are by Stephen Schwartz\, of 'Wicked' fa
 me! It is a fantastically fun show with opportunities for dancers\, singer
 s\, and actors. You don't need to be a triple threat! There is room for al
 l. \nAudition times at 5:30\, 6:30 & 7:30 on August 30 & 31. \nCome be a p
 art of the magic!
DTSTART;TZID=America/Anchorage:20210831T000000
DTEND;TZID=America/Anchorage:20210831T235900
LOCATION:
SUMMARY:Auditions for Pippin
END:VEVENT
END:VCALENDAR
