BEGIN:VCALENDAR
VERSION:2.0
PRODID:-//www.ketchikanarts.org//NONSGML kigkonsult.se iCalcreator 2.30.10/
 /
CALSCALE:GREGORIAN
METHOD:PUBLISH
UID:46b1d5a8-5b0c-4cdb-befd-bcdcfcab7ae8
X-WR-CALDESC:The City of Ketchikan presents the Music on the Dock Summer Co
 ncert Series!!! A series of concerts meant to showcase local musicians to 
 our summer visitors.
X-WR-RELCALID:56a8f327ec47bba55eb2a91f8439bd47
X-WR-TIMEZONE:America/Anchorage
BEGIN:VTIMEZONE
TZID:America/Anchorage
BEGIN:STANDARD
TZNAME:AKST
DTSTART:20201101T020000
TZOFFSETFROM:-0800
TZOFFSETTO:-0900
RDATE:20211107T020000
RDATE:20221106T020000
END:STANDARD
BEGIN:DAYLIGHT
TZNAME:AKDT
DTSTART:20210314T020000
TZOFFSETFROM:-0900
TZOFFSETTO:-0800
RDATE:20220313T020000
END:DAYLIGHT
END:VTIMEZONE
BEGIN:VEVENT
UID:1e0d5ee6-f7d9-4048-ba83-9a8df2a82106
DTSTAMP:20260421T002537Z
DESCRIPTION:The City of Ketchikan presents the Music on the Dock Summer Con
 cert Series!!! A series of concerts meant to showcase local musicians to o
 ur summer visitors.
DTSTART;TZID=America/Anchorage:20210826T120000
DTEND;TZID=America/Anchorage:20210826T130000
LOCATION:Berth 2 on Sunny Days\, Berth 3 Shelter on Rainy Days
SUMMARY:Music on the Dock - Kim Henrickson
END:VEVENT
END:VCALENDAR
