BEGIN:VCALENDAR
VERSION:2.0
PRODID:-//www.ketchikanarts.org//NONSGML kigkonsult.se iCalcreator 2.30.10/
 /
CALSCALE:GREGORIAN
METHOD:PUBLISH
UID:ae8321d7-d026-498c-b1af-52b30cca2f0a
X-WR-CALDESC:Live music from Dave Rubin\, Hannah Kerick\, and Chazz Gist\n
X-WR-RELCALID:b5070e09c6ef651db9b7c22d1a5d0913
X-WR-TIMEZONE:America/Anchorage
BEGIN:VTIMEZONE
TZID:America/Anchorage
BEGIN:STANDARD
TZNAME:AKST
DTSTART:20201101T020000
TZOFFSETFROM:-0800
TZOFFSETTO:-0900
RDATE:20211107T020000
RDATE:20221106T020000
END:STANDARD
BEGIN:DAYLIGHT
TZNAME:AKDT
DTSTART:20210314T020000
TZOFFSETFROM:-0900
TZOFFSETTO:-0800
RDATE:20220313T020000
END:DAYLIGHT
END:VTIMEZONE
BEGIN:VEVENT
UID:fb13f622-ee49-42f4-98fb-70c84c145b8c
DTSTAMP:20260421T002645Z
DESCRIPTION:Live music from Dave Rubin\, Hannah Kerick\, and Chazz Gist\n
DTSTART;TZID=America/Anchorage:20210826T170000
DTEND;TZID=America/Anchorage:20210826T210000
LOCATION:Cape Fox Restaurant and Lounge
SUMMARY:Cape Fox Players
END:VEVENT
END:VCALENDAR
