BEGIN:VCALENDAR
VERSION:2.0
PRODID:-//www.ketchikanarts.org//NONSGML kigkonsult.se iCalcreator 2.30.10/
 /
CALSCALE:GREGORIAN
METHOD:PUBLISH
UID:c75f20f2-3588-4a17-b4d2-8510d847b19b
X-WR-CALDESC:Attention writers and performers of Ketchikan! This is an open
  call for short\, original performance works for First City Players’ 2nd A
 nnual Ward Lake Theatre Walk!\nPerformances must run no longer than five m
 inutes and keep to PG-13 material. Pick one of several locations around Wa
 rd Lake for your piece or performance. A scene? A sketch? A monologue? Spo
 ken word? Submit it to info@firstcityplayers.org by 12 noon on Wednesday\,
  August 25th!  Selected submissions will be announced on Friday\, August 2
 7th. \nThis outdoor theatre event will be held on Friday\, September 3rd\,
  and Saturday\, September 4th. \nCall 907-225-4792 or email info@firstcity
 players.org for more information.
X-WR-RELCALID:305cb42d284d4491131fd643c6f08aae
X-WR-TIMEZONE:America/Anchorage
BEGIN:VTIMEZONE
TZID:America/Anchorage
BEGIN:STANDARD
TZNAME:AKST
DTSTART:20201101T020000
TZOFFSETFROM:-0800
TZOFFSETTO:-0900
RDATE:20211107T020000
RDATE:20221106T020000
END:STANDARD
BEGIN:DAYLIGHT
TZNAME:AKDT
DTSTART:20210314T020000
TZOFFSETFROM:-0900
TZOFFSETTO:-0800
RDATE:20220313T020000
END:DAYLIGHT
END:VTIMEZONE
BEGIN:VEVENT
UID:5686fa40-db67-4b17-aa1a-097a07408da1
DTSTAMP:20260421T002356Z
DESCRIPTION:Attention writers and performers of Ketchikan! This is an open 
 call for short\, original performance works for First City Players’ 2nd An
 nual Ward Lake Theatre Walk!\nPerformances must run no longer than five mi
 nutes and keep to PG-13 material. Pick one of several locations around War
 d Lake for your piece or performance. A scene? A sketch? A monologue? Spok
 en word? Submit it to info@firstcityplayers.org by 12 noon on Wednesday\, 
 August 25th!  Selected submissions will be announced on Friday\, August 27
 th. \nThis outdoor theatre event will be held on Friday\, September 3rd\, 
 and Saturday\, September 4th. \nCall 907-225-4792 or email info@firstcityp
 layers.org for more information.
DTSTART;TZID=America/Anchorage:20210825T080000
DTEND;TZID=America/Anchorage:20210825T120000
LOCATION:
SUMMARY:Call for writers and performers!!!
END:VEVENT
END:VCALENDAR
