BEGIN:VCALENDAR
VERSION:2.0
PRODID:-//www.ketchikanarts.org//NONSGML kigkonsult.se iCalcreator 2.30.10/
 /
CALSCALE:GREGORIAN
METHOD:PUBLISH
UID:197fa4ec-9245-4917-9ca3-f797914b8f39
X-WR-CALDESC:Obvious Jazz\, \nRob Holston sings vocals\, plays sax\, trumpe
 t\, trombone\, and flute. The one-man-band plays pieces from the 'American
  Song Book'
X-WR-RELCALID:2f25fbfcd362c3c9c82de17505257fcf
X-WR-TIMEZONE:America/Anchorage
BEGIN:VTIMEZONE
TZID:America/Anchorage
BEGIN:STANDARD
TZNAME:AKST
DTSTART:20201101T020000
TZOFFSETFROM:-0800
TZOFFSETTO:-0900
RDATE:20211107T020000
RDATE:20221106T020000
END:STANDARD
BEGIN:DAYLIGHT
TZNAME:AKDT
DTSTART:20210314T020000
TZOFFSETFROM:-0900
TZOFFSETTO:-0800
RDATE:20220313T020000
END:DAYLIGHT
END:VTIMEZONE
BEGIN:VEVENT
UID:40c43fe0-3cee-4066-8013-01851f01a0f8
DTSTAMP:20260421T002359Z
DESCRIPTION:Obvious Jazz\, \nRob Holston sings vocals\, plays sax\, trumpet
 \, trombone\, and flute. The one-man-band plays pieces from the 'American 
 Song Book'
DTSTART;TZID=America/Anchorage:20210825T180000
DTEND;TZID=America/Anchorage:20210825T200000
LOCATION:
SUMMARY:Obvious Jazz
END:VEVENT
END:VCALENDAR
