BEGIN:VCALENDAR
VERSION:2.0
PRODID:-//www.ketchikanarts.org//NONSGML kigkonsult.se iCalcreator 2.30.10/
 /
CALSCALE:GREGORIAN
METHOD:PUBLISH
UID:744285a0-4465-4c7d-8f0d-6f4ca67d9056
X-WR-CALDESC:
X-WR-RELCALID:03894447bef124ba1f23169a561e6202
X-WR-TIMEZONE:America/Anchorage
BEGIN:VTIMEZONE
TZID:America/Anchorage
BEGIN:STANDARD
TZNAME:AKST
DTSTART:20201101T020000
TZOFFSETFROM:-0800
TZOFFSETTO:-0900
RDATE:20211107T020000
RDATE:20221106T020000
END:STANDARD
BEGIN:DAYLIGHT
TZNAME:AKDT
DTSTART:20210314T020000
TZOFFSETFROM:-0900
TZOFFSETTO:-0800
RDATE:20220313T020000
END:DAYLIGHT
END:VTIMEZONE
BEGIN:VEVENT
UID:264c1506-5b44-48c8-bf32-87f044560f51
DTSTAMP:20260421T003340Z
DESCRIPTION:
DTSTART;TZID=America/Anchorage:20210821T100000
DTEND;TZID=America/Anchorage:20210821T140000
LOCATION:
SUMMARY:The Commons at TFCU Farmers Market
END:VEVENT
END:VCALENDAR
