BEGIN:VCALENDAR
VERSION:2.0
PRODID:-//www.ketchikanarts.org//NONSGML kigkonsult.se iCalcreator 2.30.10/
 /
CALSCALE:GREGORIAN
METHOD:PUBLISH
UID:f471ee3c-2033-45ef-ba2a-22bb41e5e062
X-WR-CALDESC:Diane Slagle hosts  blues on-demand piano bar
X-WR-RELCALID:da55c45bc61539899d4df2e880876545
X-WR-TIMEZONE:America/Anchorage
BEGIN:VTIMEZONE
TZID:America/Anchorage
BEGIN:STANDARD
TZNAME:AKST
DTSTART:20201101T020000
TZOFFSETFROM:-0800
TZOFFSETTO:-0900
RDATE:20211107T020000
RDATE:20221106T020000
END:STANDARD
BEGIN:DAYLIGHT
TZNAME:AKDT
DTSTART:20210314T020000
TZOFFSETFROM:-0900
TZOFFSETTO:-0800
RDATE:20220313T020000
END:DAYLIGHT
END:VTIMEZONE
BEGIN:VEVENT
UID:7691cee0-d5ee-448f-a327-8debfa893618
DTSTAMP:20260421T002643Z
DESCRIPTION:Diane Slagle hosts  blues on-demand piano bar
DTSTART;TZID=America/Anchorage:20210821T170000
DTEND;TZID=America/Anchorage:20210821T200000
LOCATION:Alaska Fish House
SUMMARY:Piano Bar with Diane Slagle
END:VEVENT
END:VCALENDAR
