BEGIN:VCALENDAR
VERSION:2.0
PRODID:-//www.ketchikanarts.org//NONSGML kigkonsult.se iCalcreator 2.30.10/
 /
CALSCALE:GREGORIAN
METHOD:PUBLISH
UID:07a90e54-e9b4-4bf7-92ac-417d80f9f8f6
X-WR-CALDESC:Monthly Board of Directors Meeting. Currently all KAAHC Board 
 meetings are held via ZOOM. If you would like to attend a Board meeting pl
 ease contact Kathleen Light for for attendance information. kathleenl@ketc
 hikanarts.org
X-WR-RELCALID:cdfc6e4ebad5275ce51c1f7c10cefcf4
X-WR-TIMEZONE:America/Anchorage
BEGIN:VTIMEZONE
TZID:America/Anchorage
BEGIN:STANDARD
TZNAME:AKST
DTSTART:20201101T020000
TZOFFSETFROM:-0800
TZOFFSETTO:-0900
RDATE:20211107T020000
RDATE:20221106T020000
END:STANDARD
BEGIN:DAYLIGHT
TZNAME:AKDT
DTSTART:20210314T020000
TZOFFSETFROM:-0900
TZOFFSETTO:-0800
RDATE:20220313T020000
END:DAYLIGHT
END:VTIMEZONE
BEGIN:VEVENT
UID:2e9097f5-8ad1-452f-a14a-2338bdcc3009
DTSTAMP:20260421T004705Z
DESCRIPTION:Monthly Board of Directors Meeting. Currently all KAAHC Board m
 eetings are held via ZOOM. If you would like to attend a Board meeting ple
 ase contact Kathleen Light for for attendance information. kathleenl@ketch
 ikanarts.org
DTSTART;TZID=America/Anchorage:20210818T173000
DTEND;TZID=America/Anchorage:20210818T190000
LOCATION:Main Street Gallery
SUMMARY:Ketchikan Area Arts and Humanities Board of Directors Meeting
END:VEVENT
END:VCALENDAR
