BEGIN:VCALENDAR
VERSION:2.0
PRODID:-//www.ketchikanarts.org//NONSGML kigkonsult.se iCalcreator 2.30.10/
 /
CALSCALE:GREGORIAN
METHOD:PUBLISH
UID:a2e1f12a-2d23-4b81-9028-fe841206371d
X-WR-CALDESC:Diane Slagle hosts '80's to Now' trivia and blues on-demand pi
 ano bar
X-WR-RELCALID:9b9928c478e7c28a25a5a3fb31b7b4bd
X-WR-TIMEZONE:America/Anchorage
BEGIN:VTIMEZONE
TZID:America/Anchorage
BEGIN:STANDARD
TZNAME:AKST
DTSTART:20201101T020000
TZOFFSETFROM:-0800
TZOFFSETTO:-0900
RDATE:20211107T020000
RDATE:20221106T020000
END:STANDARD
BEGIN:DAYLIGHT
TZNAME:AKDT
DTSTART:20210314T020000
TZOFFSETFROM:-0900
TZOFFSETTO:-0800
RDATE:20220313T020000
END:DAYLIGHT
END:VTIMEZONE
BEGIN:VEVENT
UID:6c0b82c3-3f2e-49ea-a61c-d34407b81958
DTSTAMP:20260421T003703Z
DESCRIPTION:Diane Slagle hosts '80's to Now' trivia and blues on-demand pia
 no bar
DTSTART;TZID=America/Anchorage:20210818T170000
DTEND;TZID=America/Anchorage:20210818T200000
LOCATION:Fat Stans
SUMMARY:Over the Hump Piano Bar and Trivia
END:VEVENT
END:VCALENDAR
