BEGIN:VCALENDAR
VERSION:2.0
PRODID:-//www.ketchikanarts.org//NONSGML kigkonsult.se iCalcreator 2.30.10/
 /
CALSCALE:GREGORIAN
METHOD:PUBLISH
UID:aae41b76-8e80-49cf-8306-06ac22099502
X-WR-CALDESC:Diane Slagle hosts  blues on-demand piano bar
X-WR-RELCALID:e760236e4a3e34169f8898cc0fd4a5b0
X-WR-TIMEZONE:America/Anchorage
BEGIN:VTIMEZONE
TZID:America/Anchorage
BEGIN:STANDARD
TZNAME:AKST
DTSTART:20201101T020000
TZOFFSETFROM:-0800
TZOFFSETTO:-0900
RDATE:20211107T020000
RDATE:20221106T020000
END:STANDARD
BEGIN:DAYLIGHT
TZNAME:AKDT
DTSTART:20210314T020000
TZOFFSETFROM:-0900
TZOFFSETTO:-0800
RDATE:20220313T020000
END:DAYLIGHT
END:VTIMEZONE
BEGIN:VEVENT
UID:c28094e1-1da8-49da-b525-d6c68f74cea2
DTSTAMP:20260421T003846Z
DESCRIPTION:Diane Slagle hosts  blues on-demand piano bar
DTSTART;TZID=America/Anchorage:20210814T170000
DTEND;TZID=America/Anchorage:20210814T200000
LOCATION:Alaska Fish House
SUMMARY:Piano Bar with Diane Slagle
END:VEVENT
END:VCALENDAR
