BEGIN:VCALENDAR
VERSION:2.0
PRODID:-//www.ketchikanarts.org//NONSGML kigkonsult.se iCalcreator 2.30.10/
 /
CALSCALE:GREGORIAN
METHOD:PUBLISH
UID:a18110fe-d9b3-4397-8713-838fb3b38eb8
X-WR-CALDESC:Dave\, Hannah\, and Chazz will play at the Alaska Fish House e
 very Saturday from 12- 2:00 pm\nFree to restaurant patrons.
X-WR-RELCALID:05755b6cc69ddd0b119caba67670b97b
X-WR-TIMEZONE:America/Anchorage
BEGIN:VTIMEZONE
TZID:America/Anchorage
BEGIN:STANDARD
TZNAME:AKST
DTSTART:20201101T020000
TZOFFSETFROM:-0800
TZOFFSETTO:-0900
RDATE:20211107T020000
RDATE:20221106T020000
END:STANDARD
BEGIN:DAYLIGHT
TZNAME:AKDT
DTSTART:20210314T020000
TZOFFSETFROM:-0900
TZOFFSETTO:-0800
RDATE:20220313T020000
END:DAYLIGHT
END:VTIMEZONE
BEGIN:VEVENT
UID:76134395-ac55-466b-9141-74e491f0508d
DTSTAMP:20260421T003601Z
DESCRIPTION:Dave\, Hannah\, and Chazz will play at the Alaska Fish House ev
 ery Saturday from 12- 2:00 pm\nFree to restaurant patrons.
DTSTART;TZID=America/Anchorage:20210814T120000
DTEND;TZID=America/Anchorage:20210814T140000
LOCATION:Alaska Fish House
SUMMARY:Dave\, Hannah\, and Chazz
END:VEVENT
END:VCALENDAR
