BEGIN:VCALENDAR
VERSION:2.0
PRODID:-//www.ketchikanarts.org//NONSGML kigkonsult.se iCalcreator 2.30.10/
 /
CALSCALE:GREGORIAN
METHOD:PUBLISH
UID:0423722e-5555-4a78-8afc-8b265d70ca49
X-WR-CALDESC:All the Ketchikan Residents who submitted pieces to the Southe
 ast Alaska State Fair are recognized and exhibited at the Museum! Go see t
 he talent that represented Ketchikan\, and the ribbons and recognition the
 y received!!!
X-WR-RELCALID:ad33e1a18eb53c2eaa5d439ac5ebff28
X-WR-TIMEZONE:America/Anchorage
BEGIN:VTIMEZONE
TZID:America/Anchorage
BEGIN:STANDARD
TZNAME:AKST
DTSTART:20201101T020000
TZOFFSETFROM:-0800
TZOFFSETTO:-0900
RDATE:20211107T020000
RDATE:20221106T020000
END:STANDARD
BEGIN:DAYLIGHT
TZNAME:AKDT
DTSTART:20210314T020000
TZOFFSETFROM:-0900
TZOFFSETTO:-0800
RDATE:20220313T020000
END:DAYLIGHT
END:VTIMEZONE
BEGIN:VEVENT
UID:156d2b61-1177-4386-8d6e-337fe9c25e86
DTSTAMP:20260420T225607Z
DESCRIPTION:All the Ketchikan Residents who submitted pieces to the Southea
 st Alaska State Fair are recognized and exhibited at the Museum! Go see th
 e talent that represented Ketchikan\, and the ribbons and recognition they
  received!!!
DTSTART;TZID=America/Anchorage:20210813T170000
DTEND;TZID=America/Anchorage:20210904T180000
LOCATION:
SUMMARY:Ketchikan At the Fair
END:VEVENT
END:VCALENDAR
