BEGIN:VCALENDAR
VERSION:2.0
PRODID:-//www.ketchikanarts.org//NONSGML kigkonsult.se iCalcreator 2.30.10/
 /
CALSCALE:GREGORIAN
METHOD:PUBLISH
UID:ba1377ea-3199-4604-957e-a0a7f5d80a39
X-WR-CALDESC:Diane Slagle hosts '80's to Now' trivia and blues on-demand pi
 ano bar
X-WR-RELCALID:fb45b3332f067347e6edf597078f13ba
X-WR-TIMEZONE:America/Anchorage
BEGIN:VTIMEZONE
TZID:America/Anchorage
BEGIN:STANDARD
TZNAME:AKST
DTSTART:20201101T020000
TZOFFSETFROM:-0800
TZOFFSETTO:-0900
RDATE:20211107T020000
RDATE:20221106T020000
END:STANDARD
BEGIN:DAYLIGHT
TZNAME:AKDT
DTSTART:20210314T020000
TZOFFSETFROM:-0900
TZOFFSETTO:-0800
RDATE:20220313T020000
END:DAYLIGHT
END:VTIMEZONE
BEGIN:VEVENT
UID:75e14bfa-af67-4c89-b85c-e786f3d250c1
DTSTAMP:20260421T003354Z
DESCRIPTION:Diane Slagle hosts '80's to Now' trivia and blues on-demand pia
 no bar
DTSTART;TZID=America/Anchorage:20210811T170000
DTEND;TZID=America/Anchorage:20210811T200000
LOCATION:Fat Stans
SUMMARY:Over the Hump Piano Bar and Trivia
END:VEVENT
END:VCALENDAR
