BEGIN:VCALENDAR
VERSION:2.0
PRODID:-//www.ketchikanarts.org//NONSGML kigkonsult.se iCalcreator 2.30.10/
 /
CALSCALE:GREGORIAN
METHOD:PUBLISH
UID:247c8cd9-cb73-4f8f-8887-e7ce813300f0
X-WR-CALDESC:6:00 – 8:00 pm CHARR Beer Garden at the Lumberjack Arena $20 a
 t the door. Must be 21 or over. All proceeds will benefit the Ketchikan CH
 ARR Educational Fund for local students.
X-WR-RELCALID:3c7f34b25aefccf340b3b8ab6fc9a000
X-WR-TIMEZONE:America/Anchorage
BEGIN:VTIMEZONE
TZID:America/Anchorage
BEGIN:STANDARD
TZNAME:AKST
DTSTART:20201101T020000
TZOFFSETFROM:-0800
TZOFFSETTO:-0900
RDATE:20211107T020000
RDATE:20221106T020000
END:STANDARD
BEGIN:DAYLIGHT
TZNAME:AKDT
DTSTART:20210314T020000
TZOFFSETFROM:-0900
TZOFFSETTO:-0800
RDATE:20220313T020000
END:DAYLIGHT
END:VTIMEZONE
BEGIN:VEVENT
UID:1ecf2a3a-b351-4bc7-9ae4-9623ed90696b
DTSTAMP:20260421T002306Z
DESCRIPTION:6:00 – 8:00 pm CHARR Beer Garden at the Lumberjack Arena $20 at
  the door. Must be 21 or over. All proceeds will benefit the Ketchikan CHA
 RR Educational Fund for local students.
DTSTART;TZID=America/Anchorage:20210807T180000
DTEND;TZID=America/Anchorage:20210807T210000
LOCATION:
SUMMARY:CHARR Beer Garden
END:VEVENT
END:VCALENDAR
