BEGIN:VCALENDAR
VERSION:2.0
PRODID:-//www.ketchikanarts.org//NONSGML kigkonsult.se iCalcreator 2.30.10/
 /
CALSCALE:GREGORIAN
METHOD:PUBLISH
UID:43933777-4f3b-41bf-a89d-7e33386e7c4b
X-WR-CALDESC:Calling ALL to participate\, grow\, design\, and sculpt your f
 acial masterpieces! Thats right !!! Prizes will be given to the MOST WILD!
 !!!\nMOST ARTISTIC!!!! and the PEOPLE's Favorite!!! Check-in at the Main S
 tage to be included in the judgment!
X-WR-RELCALID:ee94392c4fc64272a33e1f5cee352225
X-WR-TIMEZONE:America/Anchorage
BEGIN:VTIMEZONE
TZID:America/Anchorage
BEGIN:STANDARD
TZNAME:AKST
DTSTART:20201101T020000
TZOFFSETFROM:-0800
TZOFFSETTO:-0900
RDATE:20211107T020000
RDATE:20221106T020000
END:STANDARD
BEGIN:DAYLIGHT
TZNAME:AKDT
DTSTART:20210314T020000
TZOFFSETFROM:-0900
TZOFFSETTO:-0800
RDATE:20220313T020000
END:DAYLIGHT
END:VTIMEZONE
BEGIN:VEVENT
UID:ea5267dd-0c9c-470d-80f6-8a8eb4c92050
DTSTAMP:20260421T002224Z
DESCRIPTION:Calling ALL to participate\, grow\, design\, and sculpt your fa
 cial masterpieces! Thats right !!! Prizes will be given to the MOST WILD!!
 !!\nMOST ARTISTIC!!!! and the PEOPLE's Favorite!!! Check-in at the Main St
 age to be included in the judgment!
DTSTART;TZID=America/Anchorage:20210807T160000
DTEND;TZID=America/Anchorage:20210807T170000
LOCATION:
SUMMARY:Beard and Mustache Contest
END:VEVENT
END:VCALENDAR
