BEGIN:VCALENDAR
VERSION:2.0
PRODID:-//www.ketchikanarts.org//NONSGML kigkonsult.se iCalcreator 2.30.10/
 /
CALSCALE:GREGORIAN
METHOD:PUBLISH
UID:c42d8e14-0f98-463a-a228-34abc3e15795
X-WR-CALDESC:Opening for the Ratfish Wranglers \nFree\n21 and over or accom
 panied by a parent or legal guardian
X-WR-RELCALID:2210038b1fddb865de745f85aaccffcd
X-WR-TIMEZONE:America/Anchorage
BEGIN:VTIMEZONE
TZID:America/Anchorage
BEGIN:STANDARD
TZNAME:AKST
DTSTART:20201101T020000
TZOFFSETFROM:-0800
TZOFFSETTO:-0900
RDATE:20211107T020000
RDATE:20221106T020000
END:STANDARD
BEGIN:DAYLIGHT
TZNAME:AKDT
DTSTART:20210314T020000
TZOFFSETFROM:-0900
TZOFFSETTO:-0800
RDATE:20220313T020000
END:DAYLIGHT
END:VTIMEZONE
BEGIN:VEVENT
UID:e721ab60-723c-40d6-be9a-60060f515f88
DTSTAMP:20260421T003703Z
DESCRIPTION:Opening for the Ratfish Wranglers \nFree\n21 and over or accomp
 anied by a parent or legal guardian
DTSTART;TZID=America/Anchorage:20210807T200000
DTEND;TZID=America/Anchorage:20210807T210000
LOCATION:Creek Street Cabaret
SUMMARY:Austin Hays Trio featuring Alvin Inoncillo on Guitar
END:VEVENT
END:VCALENDAR
