BEGIN:VCALENDAR
VERSION:2.0
PRODID:-//www.ketchikanarts.org//NONSGML kigkonsult.se iCalcreator 2.30.10/
 /
CALSCALE:GREGORIAN
METHOD:PUBLISH
UID:4d01d746-d6e2-45a7-a072-366d46f62e7c
X-WR-CALDESC:Every year\, the 3-day Blueberry Arts Festival starts with a P
 arade! The CUTEST Parade in town!!! The Pet\, Doll\, and Mask Parade! Brin
 g your favorite pet or doll or both! Dress up\, dress them up! And this ye
 ar a prize is given to the most FESTIVE MASK!!!! Fun fun fun!!! Free to al
 l! Appropriate for all ages! Youngsters and their parents adorn wagons\, p
 ets\, and dolls and parade down Main Street! This year the Ketchikan Area 
 Arts and Humanities Council will do the same but with the addition of  MAS
 KS to help protect our youngest unvaccinated community members. Get creati
 ve\, have fun\, make a mask for yourself\, make a matching one for your do
 ll or teddy bear\, decorate your wagon\, bring a friend with four legs....
 ..! Don't have kids\, dolls\, or pets? Enjoy the cutest parade in town fro
 m the sidewalks of Main Street!
X-WR-RELCALID:2828aa9ca9c0dfaea9761e28d9516948
X-WR-TIMEZONE:America/Anchorage
BEGIN:VTIMEZONE
TZID:America/Anchorage
BEGIN:STANDARD
TZNAME:AKST
DTSTART:20201101T020000
TZOFFSETFROM:-0800
TZOFFSETTO:-0900
RDATE:20211107T020000
RDATE:20221106T020000
END:STANDARD
BEGIN:DAYLIGHT
TZNAME:AKDT
DTSTART:20210314T020000
TZOFFSETFROM:-0900
TZOFFSETTO:-0800
RDATE:20220313T020000
END:DAYLIGHT
END:VTIMEZONE
BEGIN:VEVENT
UID:90916984-3625-43db-8c15-aea18ced00ee
DTSTAMP:20260421T002338Z
DESCRIPTION:Every year\, the 3-day Blueberry Arts Festival starts with a Pa
 rade! The CUTEST Parade in town!!! The Pet\, Doll\, and Mask Parade! Bring
  your favorite pet or doll or both! Dress up\, dress them up! And this yea
 r a prize is given to the most FESTIVE MASK!!!! Fun fun fun!!! Free to all
 ! Appropriate for all ages! Youngsters and their parents adorn wagons\, pe
 ts\, and dolls and parade down Main Street! This year the Ketchikan Area A
 rts and Humanities Council will do the same but with the addition of  MASK
 S to help protect our youngest unvaccinated community members. Get creativ
 e\, have fun\, make a mask for yourself\, make a matching one for your dol
 l or teddy bear\, decorate your wagon\, bring a friend with four legs.....
 .! Don't have kids\, dolls\, or pets? Enjoy the cutest parade in town from
  the sidewalks of Main Street!
DTSTART;TZID=America/Anchorage:20210806T140000
DTEND;TZID=America/Anchorage:20210806T150000
LOCATION:
SUMMARY:Pet\, Doll\, and MASK Parade!
END:VEVENT
END:VCALENDAR
