BEGIN:VCALENDAR
VERSION:2.0
PRODID:-//www.ketchikanarts.org//NONSGML kigkonsult.se iCalcreator 2.30.10/
 /
CALSCALE:GREGORIAN
METHOD:PUBLISH
UID:4cb2be4e-864e-47bd-abc2-6a794afbe15d
X-WR-CALDESC:
X-WR-RELCALID:058e6a6c67db405e4b25f50a502c5f4b
X-WR-TIMEZONE:America/Anchorage
BEGIN:VTIMEZONE
TZID:America/Anchorage
BEGIN:STANDARD
TZNAME:AKST
DTSTART:20201101T020000
TZOFFSETFROM:-0800
TZOFFSETTO:-0900
RDATE:20211107T020000
RDATE:20221106T020000
END:STANDARD
BEGIN:DAYLIGHT
TZNAME:AKDT
DTSTART:20210314T020000
TZOFFSETFROM:-0900
TZOFFSETTO:-0800
RDATE:20220313T020000
END:DAYLIGHT
END:VTIMEZONE
BEGIN:VEVENT
UID:55ac3fc0-92fe-48dc-9a0f-874e800ab45a
DTSTAMP:20260421T004434Z
DESCRIPTION:
DTSTART;TZID=America/Anchorage:20210803T181500
DTEND;TZID=America/Anchorage:20210803T193000
LOCATION:
SUMMARY:Big Band Reading at the Creek Street Cabaret
END:VEVENT
END:VCALENDAR
