BEGIN:VCALENDAR
VERSION:2.0
PRODID:-//www.ketchikanarts.org//NONSGML kigkonsult.se iCalcreator 2.30.10/
 /
CALSCALE:GREGORIAN
METHOD:PUBLISH
UID:6d549f24-e916-4d0c-8e5a-f4c550e26d09
X-WR-CALDESC:Open Mic\nFeaturing the talents of Cullen McCormick and Chazz 
 Gist\n$5 Cover\, Must be 21 years of age or accompanied by a parent or gua
 rdian.\n
X-WR-RELCALID:8bf3c04df78fe933dca6e527ddc70709
X-WR-TIMEZONE:America/Anchorage
BEGIN:VTIMEZONE
TZID:America/Anchorage
BEGIN:STANDARD
TZNAME:AKST
DTSTART:20201101T020000
TZOFFSETFROM:-0800
TZOFFSETTO:-0900
RDATE:20211107T020000
RDATE:20221106T020000
END:STANDARD
BEGIN:DAYLIGHT
TZNAME:AKDT
DTSTART:20210314T020000
TZOFFSETFROM:-0900
TZOFFSETTO:-0800
RDATE:20220313T020000
END:DAYLIGHT
END:VTIMEZONE
BEGIN:VEVENT
UID:d3d0cd81-ce12-4d52-904c-b44ff61ad859
DTSTAMP:20260421T003506Z
DESCRIPTION:Open Mic\nFeaturing the talents of Cullen McCormick and Chazz G
 ist\n$5 Cover\, Must be 21 years of age or accompanied by a parent or guar
 dian.\n
DTSTART;TZID=America/Anchorage:20210801T180000
DTEND;TZID=America/Anchorage:20210801T210000
LOCATION:Creek Street Cabaret
SUMMARY:Open Mic with Joe Williams IV\, Cullen McCormick\, and Friends
END:VEVENT
END:VCALENDAR
