BEGIN:VCALENDAR
VERSION:2.0
PRODID:-//www.ketchikanarts.org//NONSGML kigkonsult.se iCalcreator 2.30.10/
 /
CALSCALE:GREGORIAN
METHOD:PUBLISH
UID:9c6f9845-7013-4fd1-b338-2296f342b16c
X-WR-CALDESC:Live music from Dave Rubin\, Hannah Kerick\, and Chazz Gist\n
X-WR-RELCALID:df45815a93e501af2d34f28c70240222
X-WR-TIMEZONE:America/Anchorage
BEGIN:VTIMEZONE
TZID:America/Anchorage
BEGIN:STANDARD
TZNAME:AKST
DTSTART:20201101T020000
TZOFFSETFROM:-0800
TZOFFSETTO:-0900
RDATE:20211107T020000
RDATE:20221106T020000
END:STANDARD
BEGIN:DAYLIGHT
TZNAME:AKDT
DTSTART:20210314T020000
TZOFFSETFROM:-0900
TZOFFSETTO:-0800
RDATE:20220313T020000
END:DAYLIGHT
END:VTIMEZONE
BEGIN:VEVENT
UID:58a3ec68-d541-4817-8930-63ee82cc9eb7
DTSTAMP:20260421T004629Z
DESCRIPTION:Live music from Dave Rubin\, Hannah Kerick\, and Chazz Gist\n
DTSTART;TZID=America/Anchorage:20210801T120000
DTEND;TZID=America/Anchorage:20210801T140000
LOCATION:Alaska Fish House
SUMMARY:Dave\, Hannah\, and Chazz at the Alaska Fish House
END:VEVENT
END:VCALENDAR
