BEGIN:VCALENDAR
VERSION:2.0
PRODID:-//www.ketchikanarts.org//NONSGML kigkonsult.se iCalcreator 2.30.10/
 /
CALSCALE:GREGORIAN
METHOD:PUBLISH
UID:1099804f-128c-4400-83ac-5be75765370d
X-WR-CALDESC:$5 Cover
X-WR-RELCALID:c1f46e7544b6b56c1374fb892ca71bcb
X-WR-TIMEZONE:America/Anchorage
BEGIN:VTIMEZONE
TZID:America/Anchorage
BEGIN:STANDARD
TZNAME:AKST
DTSTART:20201101T020000
TZOFFSETFROM:-0800
TZOFFSETTO:-0900
RDATE:20211107T020000
RDATE:20221106T020000
END:STANDARD
BEGIN:DAYLIGHT
TZNAME:AKDT
DTSTART:20210314T020000
TZOFFSETFROM:-0900
TZOFFSETTO:-0800
RDATE:20220313T020000
END:DAYLIGHT
END:VTIMEZONE
BEGIN:VEVENT
UID:590ff041-c729-4c24-8c1e-4dd958a05bf1
DTSTAMP:20260421T014259Z
DESCRIPTION:$5 Cover
DTSTART;TZID=America/Anchorage:20210731T210000
DTEND;TZID=America/Anchorage:20210731T230000
LOCATION:Creek Street Cabaret
SUMMARY:Woody's Finest Hour
END:VEVENT
END:VCALENDAR
