BEGIN:VCALENDAR
VERSION:2.0
PRODID:-//www.ketchikanarts.org//NONSGML kigkonsult.se iCalcreator 2.30.10/
 /
CALSCALE:GREGORIAN
METHOD:PUBLISH
UID:35c9ac7b-ce0b-47a3-be5e-1373a3ecbc7c
X-WR-CALDESC:Acoustic Indie Rock
X-WR-RELCALID:f7002ecbc9bdfae44a8ae861398bd73d
X-WR-TIMEZONE:America/Anchorage
BEGIN:VTIMEZONE
TZID:America/Anchorage
BEGIN:STANDARD
TZNAME:AKST
DTSTART:20201101T020000
TZOFFSETFROM:-0800
TZOFFSETTO:-0900
RDATE:20211107T020000
RDATE:20221106T020000
END:STANDARD
BEGIN:DAYLIGHT
TZNAME:AKDT
DTSTART:20210314T020000
TZOFFSETFROM:-0900
TZOFFSETTO:-0800
RDATE:20220313T020000
END:DAYLIGHT
END:VTIMEZONE
BEGIN:VEVENT
UID:7b077d0f-268d-44a1-b8c8-df0ba067c473
DTSTAMP:20260421T020311Z
DESCRIPTION:Acoustic Indie Rock
DTSTART;TZID=America/Anchorage:20210730T210000
DTEND;TZID=America/Anchorage:20210730T233000
LOCATION:
SUMMARY:Torah Zamorah\, Evan Porter\, and Kalija LeCornu
END:VEVENT
END:VCALENDAR
