BEGIN:VCALENDAR
VERSION:2.0
PRODID:-//www.ketchikanarts.org//NONSGML kigkonsult.se iCalcreator 2.30.10/
 /
CALSCALE:GREGORIAN
METHOD:PUBLISH
UID:7e60acf6-c685-4306-998c-fb0199a2979b
X-WR-CALDESC:Artist Marilyn Lee will exhibit at the Southeast Alaska Discov
 ery Season with an exhibit of charcoal and graphite studies of trees on lo
 cal Ketchikan trails. You can enjoy the exhibit while visiting the Discove
 ry Center.\n\nThe Southeast Alaska Discovery Center will finally be OPEN o
 n cruise ship days starting July 9 (8 am -4 pm). Open  Thursday-Sunday sta
 rting July 29 - October 15th\n\n
X-WR-RELCALID:75643cc86bad25d0af138eed895d1238
X-WR-TIMEZONE:America/Anchorage
BEGIN:VTIMEZONE
TZID:America/Anchorage
BEGIN:STANDARD
TZNAME:AKST
DTSTART:20201101T020000
TZOFFSETFROM:-0800
TZOFFSETTO:-0900
RDATE:20211107T020000
RDATE:20221106T020000
END:STANDARD
BEGIN:DAYLIGHT
TZNAME:AKDT
DTSTART:20210314T020000
TZOFFSETFROM:-0900
TZOFFSETTO:-0800
RDATE:20220313T020000
END:DAYLIGHT
END:VTIMEZONE
BEGIN:VEVENT
UID:d815254d-ffef-4488-b941-025aa041dae2
DTSTAMP:20260420T212731Z
DESCRIPTION:Artist Marilyn Lee will exhibit at the Southeast Alaska Discove
 ry Season with an exhibit of charcoal and graphite studies of trees on loc
 al Ketchikan trails. You can enjoy the exhibit while visiting the Discover
 y Center.\n\nThe Southeast Alaska Discovery Center will finally be OPEN on
  cruise ship days starting July 9 (8 am -4 pm). Open  Thursday-Sunday star
 ting July 29 - October 15th\n\n
DTSTART;TZID=America/Anchorage:20210730T160000
DTEND;TZID=America/Anchorage:20211015T200000
LOCATION:
SUMMARY:Marilyn Lee at the Discovery Center
END:VEVENT
END:VCALENDAR
