BEGIN:VCALENDAR
VERSION:2.0
PRODID:-//www.ketchikanarts.org//NONSGML kigkonsult.se iCalcreator 2.30.10/
 /
CALSCALE:GREGORIAN
METHOD:PUBLISH
UID:17bac454-8498-4dc5-b67b-dac3325a025c
X-WR-CALDESC:Obvious Jazz\, \nRob Holston sings vocals\, plays sax\, trumpe
 t\, trombone\, and flute. The one-man-band plays pieces from the 'American
  Song Book'
X-WR-RELCALID:66fbd7284853af09944837cc3721134b
X-WR-TIMEZONE:America/Anchorage
BEGIN:VTIMEZONE
TZID:America/Anchorage
BEGIN:STANDARD
TZNAME:AKST
DTSTART:20201101T020000
TZOFFSETFROM:-0800
TZOFFSETTO:-0900
RDATE:20211107T020000
RDATE:20221106T020000
END:STANDARD
BEGIN:DAYLIGHT
TZNAME:AKDT
DTSTART:20210314T020000
TZOFFSETFROM:-0900
TZOFFSETTO:-0800
RDATE:20220313T020000
END:DAYLIGHT
END:VTIMEZONE
BEGIN:VEVENT
UID:b9d9d193-75d9-4856-b06a-ce27c5b7bca4
DTSTAMP:20260421T014346Z
DESCRIPTION:Obvious Jazz\, \nRob Holston sings vocals\, plays sax\, trumpet
 \, trombone\, and flute. The one-man-band plays pieces from the 'American 
 Song Book'
DTSTART;TZID=America/Anchorage:20210728T180000
DTEND;TZID=America/Anchorage:20210728T200000
LOCATION:
SUMMARY:Obvious Jazz
END:VEVENT
END:VCALENDAR
