BEGIN:VCALENDAR
VERSION:2.0
PRODID:-//www.ketchikanarts.org//NONSGML kigkonsult.se iCalcreator 2.30.10/
 /
CALSCALE:GREGORIAN
METHOD:PUBLISH
UID:93c382dd-46b4-4e4c-b3b2-79cf4dc0a085
X-WR-CALDESC:Diane Slagle hosts '80's to Now' trivia and blues on-demand pi
 ano bar
X-WR-RELCALID:022e12509b3830ddad9d26a0bb981bbc
X-WR-TIMEZONE:America/Anchorage
BEGIN:VTIMEZONE
TZID:America/Anchorage
BEGIN:STANDARD
TZNAME:AKST
DTSTART:20201101T020000
TZOFFSETFROM:-0800
TZOFFSETTO:-0900
RDATE:20211107T020000
RDATE:20221106T020000
END:STANDARD
BEGIN:DAYLIGHT
TZNAME:AKDT
DTSTART:20210314T020000
TZOFFSETFROM:-0900
TZOFFSETTO:-0800
RDATE:20220313T020000
END:DAYLIGHT
END:VTIMEZONE
BEGIN:VEVENT
UID:d6b74b0c-d5d2-422d-b3ec-8a813c4b624a
DTSTAMP:20260421T020710Z
DESCRIPTION:Diane Slagle hosts '80's to Now' trivia and blues on-demand pia
 no bar
DTSTART;TZID=America/Anchorage:20210728T170000
DTEND;TZID=America/Anchorage:20210728T200000
LOCATION:Fat Stans
SUMMARY:Over the Hump Piano Bar and Trivia
END:VEVENT
END:VCALENDAR
