BEGIN:VCALENDAR
VERSION:2.0
PRODID:-//www.ketchikanarts.org//NONSGML kigkonsult.se iCalcreator 2.30.10/
 /
CALSCALE:GREGORIAN
METHOD:PUBLISH
UID:26cb7df2-3f50-48db-bee6-2b815de436c8
X-WR-CALDESC:Self-described paleo nerds Ray Troll and David Strassman discu
 ss paleontology with experts around the nation in their podcast. New podca
 sts every Wednesday!
X-WR-RELCALID:b7bfe9ff7dfdaa98c318fe31aa8ee9bd
X-WR-TIMEZONE:America/Anchorage
BEGIN:VTIMEZONE
TZID:America/Anchorage
BEGIN:STANDARD
TZNAME:AKST
DTSTART:20201101T020000
TZOFFSETFROM:-0800
TZOFFSETTO:-0900
RDATE:20211107T020000
RDATE:20221106T020000
END:STANDARD
BEGIN:DAYLIGHT
TZNAME:AKDT
DTSTART:20210314T020000
TZOFFSETFROM:-0900
TZOFFSETTO:-0800
RDATE:20220313T020000
END:DAYLIGHT
END:VTIMEZONE
BEGIN:VEVENT
UID:9ef4ae48-2d00-4a6e-849a-c0870f947ef1
DTSTAMP:20260421T014532Z
DESCRIPTION:Self-described paleo nerds Ray Troll and David Strassman discus
 s paleontology with experts around the nation in their podcast. New podcas
 ts every Wednesday!
DTSTART;TZID=America/Anchorage:20210728T120000
DTEND;TZID=America/Anchorage:20210728T130000
LOCATION:An online podcast!
SUMMARY:Paleo Nerds
END:VEVENT
END:VCALENDAR
