BEGIN:VCALENDAR
VERSION:2.0
PRODID:-//www.ketchikanarts.org//NONSGML kigkonsult.se iCalcreator 2.30.10/
 /
CALSCALE:GREGORIAN
METHOD:PUBLISH
UID:2e183c44-b4ef-4e23-b0f0-d46ed2478338
X-WR-CALDESC:
X-WR-RELCALID:47c371f0c8d9766d3469c505a5b53874
X-WR-TIMEZONE:America/Anchorage
BEGIN:VTIMEZONE
TZID:America/Anchorage
BEGIN:STANDARD
TZNAME:AKST
DTSTART:20201101T020000
TZOFFSETFROM:-0800
TZOFFSETTO:-0900
RDATE:20211107T020000
RDATE:20221106T020000
END:STANDARD
BEGIN:DAYLIGHT
TZNAME:AKDT
DTSTART:20210314T020000
TZOFFSETFROM:-0900
TZOFFSETTO:-0800
RDATE:20220313T020000
END:DAYLIGHT
END:VTIMEZONE
BEGIN:VEVENT
UID:a58bd23d-67ca-4558-9bbd-46c6f7f9f92d
DTSTAMP:20260421T020014Z
DESCRIPTION:
DTSTART;TZID=America/Anchorage:20210727T181500
DTEND;TZID=America/Anchorage:20210727T193000
LOCATION:
SUMMARY:Big Band Reading at the Creek Street Cabaret
END:VEVENT
END:VCALENDAR
