BEGIN:VCALENDAR
VERSION:2.0
PRODID:-//www.ketchikanarts.org//NONSGML kigkonsult.se iCalcreator 2.30.10/
 /
CALSCALE:GREGORIAN
METHOD:PUBLISH
UID:85252473-6d59-4403-968f-ef0abe05cbab
X-WR-CALDESC:Dave\, Hannah\, and Chazz will play at the Alaska Fish House e
 very Saturday from 12- 2:00 pm\nFree to restaurant patrons.
X-WR-RELCALID:d416dce4e09314ac5a77e587d9dda0a0
X-WR-TIMEZONE:America/Anchorage
BEGIN:VTIMEZONE
TZID:America/Anchorage
BEGIN:STANDARD
TZNAME:AKST
DTSTART:20201101T020000
TZOFFSETFROM:-0800
TZOFFSETTO:-0900
RDATE:20211107T020000
RDATE:20221106T020000
END:STANDARD
BEGIN:DAYLIGHT
TZNAME:AKDT
DTSTART:20210314T020000
TZOFFSETFROM:-0900
TZOFFSETTO:-0800
RDATE:20220313T020000
END:DAYLIGHT
END:VTIMEZONE
BEGIN:VEVENT
UID:193bc371-8fe3-462a-a53c-5eb29a1b4b3e
DTSTAMP:20260421T014547Z
DESCRIPTION:Dave\, Hannah\, and Chazz will play at the Alaska Fish House ev
 ery Saturday from 12- 2:00 pm\nFree to restaurant patrons.
DTSTART;TZID=America/Anchorage:20210724T120000
DTEND;TZID=America/Anchorage:20210724T140000
LOCATION:Alaska Fish House
SUMMARY:Dave\, Hannah\, and Chazz
END:VEVENT
END:VCALENDAR
