BEGIN:VCALENDAR
VERSION:2.0
PRODID:-//www.ketchikanarts.org//NONSGML kigkonsult.se iCalcreator 2.30.10/
 /
CALSCALE:GREGORIAN
METHOD:PUBLISH
UID:feb3f4f6-ec8f-4abe-ab1f-781d7417ee1e
X-WR-CALDESC:The city of Ketchikan Presents the Music on the Dock Summer Co
 ncert series.  Stephanie Patton Quintet\nBerth 2 Ketchikan Visitors Bureau
  if the weather is fair.\nBerth 3 Shelter if the weather is stormy\nEnjoy 
 free public music during the lunch hour 12:00 -1:00 pm.
X-WR-RELCALID:fd070123881dfd41f0a02c4966432a54
X-WR-TIMEZONE:America/Anchorage
BEGIN:VTIMEZONE
TZID:America/Anchorage
BEGIN:STANDARD
TZNAME:AKST
DTSTART:20201101T020000
TZOFFSETFROM:-0800
TZOFFSETTO:-0900
RDATE:20211107T020000
RDATE:20221106T020000
END:STANDARD
BEGIN:DAYLIGHT
TZNAME:AKDT
DTSTART:20210314T020000
TZOFFSETFROM:-0900
TZOFFSETTO:-0800
RDATE:20220313T020000
END:DAYLIGHT
END:VTIMEZONE
BEGIN:VEVENT
UID:561f2c34-59c7-4b1a-92e9-1a3d28d4d71e
DTSTAMP:20260421T014128Z
DESCRIPTION:The city of Ketchikan Presents the Music on the Dock Summer Con
 cert series.  Stephanie Patton Quintet\nBerth 2 Ketchikan Visitors Bureau 
 if the weather is fair.\nBerth 3 Shelter if the weather is stormy\nEnjoy f
 ree public music during the lunch hour 12:00 -1:00 pm.
DTSTART;TZID=America/Anchorage:20210721T120000
DTEND;TZID=America/Anchorage:20210721T130000
LOCATION:
SUMMARY:Music on the DOCK
END:VEVENT
END:VCALENDAR
