BEGIN:VCALENDAR
VERSION:2.0
PRODID:-//www.ketchikanarts.org//NONSGML kigkonsult.se iCalcreator 2.30.10/
 /
CALSCALE:GREGORIAN
METHOD:PUBLISH
UID:0793b1bb-faee-4ef5-9cb3-15b6b662a55f
X-WR-CALDESC:Obvious Jazz\, \nRob Holston sings vocals\, plays sax\, trumpe
 t\, trombone\, and flute. The one-man-band plays pieces from the 'American
  Song Book'
X-WR-RELCALID:9e7b6c615a2df0a346d617092831ac1e
X-WR-TIMEZONE:America/Anchorage
BEGIN:VTIMEZONE
TZID:America/Anchorage
BEGIN:STANDARD
TZNAME:AKST
DTSTART:20201101T020000
TZOFFSETFROM:-0800
TZOFFSETTO:-0900
RDATE:20211107T020000
RDATE:20221106T020000
END:STANDARD
BEGIN:DAYLIGHT
TZNAME:AKDT
DTSTART:20210314T020000
TZOFFSETFROM:-0900
TZOFFSETTO:-0800
RDATE:20220313T020000
END:DAYLIGHT
END:VTIMEZONE
BEGIN:VEVENT
UID:35508fe5-71f5-4438-895e-9c6db0731d69
DTSTAMP:20260421T014219Z
DESCRIPTION:Obvious Jazz\, \nRob Holston sings vocals\, plays sax\, trumpet
 \, trombone\, and flute. The one-man-band plays pieces from the 'American 
 Song Book'
DTSTART;TZID=America/Anchorage:20210721T180000
DTEND;TZID=America/Anchorage:20210721T200000
LOCATION:
SUMMARY:Obvious Jazz
END:VEVENT
END:VCALENDAR
