BEGIN:VCALENDAR
VERSION:2.0
PRODID:-//www.ketchikanarts.org//NONSGML kigkonsult.se iCalcreator 2.30.10/
 /
CALSCALE:GREGORIAN
METHOD:PUBLISH
UID:12ba2a7e-410a-4af9-adf4-d8ed624bf43e
X-WR-CALDESC:All exhibit submissions will debut at the Opening on Friday\, 
 August 6th\, from 5:00 -7:00 pm. The exhibit will be on display at the Mai
 n Street Gallery through August 27th. The exhibit will also be available t
 o view or purchase online at www. ketchikanarts.org Artwork may or may not
  be for sale. The Main Street Gallery retains a 25% gallery commission on 
 all sales. Participants must be current members of the Ketchikan Area Arts
  and Humanities Council and in good standing to receive free entry. Otherw
 ise\, it is a $30 entry fee. Prizes will be awarded to Adults ages 25 and 
 over for 1st\, 2nd\, & 3rd place. Young Adults ages 17 - 24\, and Youth 0 
 - 16 will each receive a First in Age Group Award. One entry from the enti
 re exhibit will receive the Peoples Choice Award! Prizes will be awarded a
 t 5:00 pm on August 7th. People’s Choice will be awarded at the end of the
  month.  All two-dimensional entries must be framed and ready to hang with
  wires\, saw-toothed hangers\, etc. Cardboard and plastic hooks are not ac
 ceptable.  All three-dimensional entries must be ready for display. For la
 rger entries\, please check in advance with the Arts Council to ensure tha
 t we can accommodate your piece.
X-WR-RELCALID:24fe31fb90b7e2d6f35c665a4028b33f
X-WR-TIMEZONE:America/Anchorage
BEGIN:VTIMEZONE
TZID:America/Anchorage
BEGIN:STANDARD
TZNAME:AKST
DTSTART:20201101T020000
TZOFFSETFROM:-0800
TZOFFSETTO:-0900
RDATE:20211107T020000
RDATE:20221106T020000
END:STANDARD
BEGIN:DAYLIGHT
TZNAME:AKDT
DTSTART:20210314T020000
TZOFFSETFROM:-0900
TZOFFSETTO:-0800
RDATE:20220313T020000
END:DAYLIGHT
END:VTIMEZONE
BEGIN:VEVENT
UID:90c9b0ad-959c-45d7-8331-b39052368bff
DTSTAMP:20260421T020106Z
DESCRIPTION:All exhibit submissions will debut at the Opening on Friday\, A
 ugust 6th\, from 5:00 -7:00 pm. The exhibit will be on display at the Main
  Street Gallery through August 27th. The exhibit will also be available to
  view or purchase online at www. ketchikanarts.org Artwork may or may not 
 be for sale. The Main Street Gallery retains a 25% gallery commission on a
 ll sales. Participants must be current members of the Ketchikan Area Arts 
 and Humanities Council and in good standing to receive free entry. Otherwi
 se\, it is a $30 entry fee. Prizes will be awarded to Adults ages 25 and o
 ver for 1st\, 2nd\, & 3rd place. Young Adults ages 17 - 24\, and Youth 0 -
  16 will each receive a First in Age Group Award. One entry from the entir
 e exhibit will receive the Peoples Choice Award! Prizes will be awarded at
  5:00 pm on August 7th. People’s Choice will be awarded at the end of the 
 month.  All two-dimensional entries must be framed and ready to hang with 
 wires\, saw-toothed hangers\, etc. Cardboard and plastic hooks are not acc
 eptable.  All three-dimensional entries must be ready for display. For lar
 ger entries\, please check in advance with the Arts Council to ensure that
  we can accommodate your piece.
DTSTART;TZID=America/Anchorage:20210719T090000
DTEND;TZID=America/Anchorage:20210719T170000
LOCATION:Main Street Galley\, Ketchikan \, AK 99901 US
SUMMARY:Blueberry Arts Festival Art Exhibit Deadline
END:VEVENT
END:VCALENDAR
