BEGIN:VCALENDAR
VERSION:2.0
PRODID:-//www.ketchikanarts.org//NONSGML kigkonsult.se iCalcreator 2.30.10/
 /
CALSCALE:GREGORIAN
METHOD:PUBLISH
UID:0e587ae4-1a7b-4b59-9daa-60b70ffb3890
X-WR-CALDESC:Open Mic\nFeaturing the talents of Cullen McCormick and Chazz 
 Gist\n$5 Cover\, Must be 21 years of age or accompanied by a parent or gua
 rdian.\n
X-WR-RELCALID:919037179a5c0259771c608856737d6d
X-WR-TIMEZONE:America/Anchorage
BEGIN:VTIMEZONE
TZID:America/Anchorage
BEGIN:STANDARD
TZNAME:AKST
DTSTART:20201101T020000
TZOFFSETFROM:-0800
TZOFFSETTO:-0900
RDATE:20211107T020000
RDATE:20221106T020000
END:STANDARD
BEGIN:DAYLIGHT
TZNAME:AKDT
DTSTART:20210314T020000
TZOFFSETFROM:-0900
TZOFFSETTO:-0800
RDATE:20220313T020000
END:DAYLIGHT
END:VTIMEZONE
BEGIN:VEVENT
UID:b7654608-4342-4028-b73b-78a0dfb2797b
DTSTAMP:20260421T015546Z
DESCRIPTION:Open Mic\nFeaturing the talents of Cullen McCormick and Chazz G
 ist\n$5 Cover\, Must be 21 years of age or accompanied by a parent or guar
 dian.\n
DTSTART;TZID=America/Anchorage:20210718T180000
DTEND;TZID=America/Anchorage:20210718T210000
LOCATION:Creek Street Cabaret
SUMMARY:Open Mic with Joe Williams IV\, Cullen McCormick\, and Friends
END:VEVENT
END:VCALENDAR
