BEGIN:VCALENDAR
VERSION:2.0
PRODID:-//www.ketchikanarts.org//NONSGML kigkonsult.se iCalcreator 2.30.10/
 /
CALSCALE:GREGORIAN
METHOD:PUBLISH
UID:855c804d-0269-4faa-a04f-ac1b4e0d92f3
X-WR-CALDESC:Live music from Dave Rubin\, Hannah Kerick\, and Chazz Gist\n
X-WR-RELCALID:dc9df6828b0656cd2450ddbc53a59104
X-WR-TIMEZONE:America/Anchorage
BEGIN:VTIMEZONE
TZID:America/Anchorage
BEGIN:STANDARD
TZNAME:AKST
DTSTART:20201101T020000
TZOFFSETFROM:-0800
TZOFFSETTO:-0900
RDATE:20211107T020000
RDATE:20221106T020000
END:STANDARD
BEGIN:DAYLIGHT
TZNAME:AKDT
DTSTART:20210314T020000
TZOFFSETFROM:-0900
TZOFFSETTO:-0800
RDATE:20220313T020000
END:DAYLIGHT
END:VTIMEZONE
BEGIN:VEVENT
UID:1618af6a-87ae-46da-ad19-c72aa56e5540
DTSTAMP:20260421T015937Z
DESCRIPTION:Live music from Dave Rubin\, Hannah Kerick\, and Chazz Gist\n
DTSTART;TZID=America/Anchorage:20210718T120000
DTEND;TZID=America/Anchorage:20210718T140000
LOCATION:Alaska Fish House
SUMMARY:Dave\, Hannah\, and Chazz at the Alaska Fish House
END:VEVENT
END:VCALENDAR
