BEGIN:VCALENDAR
VERSION:2.0
PRODID:-//www.ketchikanarts.org//NONSGML kigkonsult.se iCalcreator 2.30.10/
 /
CALSCALE:GREGORIAN
METHOD:PUBLISH
UID:dabd79d9-1f87-47ab-92ba-22c39be5bec0
X-WR-CALDESC:Live music from Dave Rubin\, Hannah Kerick\, and Chazz Gist wi
 th the vocal talents of Penny Hanlin\n
X-WR-RELCALID:8eb289b309770e9157206220db36df3d
X-WR-TIMEZONE:America/Anchorage
BEGIN:VTIMEZONE
TZID:America/Anchorage
BEGIN:STANDARD
TZNAME:AKST
DTSTART:20201101T020000
TZOFFSETFROM:-0800
TZOFFSETTO:-0900
RDATE:20211107T020000
RDATE:20221106T020000
END:STANDARD
BEGIN:DAYLIGHT
TZNAME:AKDT
DTSTART:20210314T020000
TZOFFSETFROM:-0900
TZOFFSETTO:-0800
RDATE:20220313T020000
END:DAYLIGHT
END:VTIMEZONE
BEGIN:VEVENT
UID:27e4407e-13fb-4e4c-8db6-4039a2ee1848
DTSTAMP:20260421T015728Z
DESCRIPTION:Live music from Dave Rubin\, Hannah Kerick\, and Chazz Gist wit
 h the vocal talents of Penny Hanlin\n
DTSTART;TZID=America/Anchorage:20210716T190000
DTEND;TZID=America/Anchorage:20210716T200000
LOCATION:The New York Cafe
SUMMARY:Dave\, Hannah\, and Chazz at the New York
END:VEVENT
END:VCALENDAR
