BEGIN:VCALENDAR
VERSION:2.0
PRODID:-//www.ketchikanarts.org//NONSGML kigkonsult.se iCalcreator 2.30.10/
 /
CALSCALE:GREGORIAN
METHOD:PUBLISH
UID:e075f1c9-4243-4df2-9b4d-e0dda605207f
X-WR-CALDESC:The city of Ketchikan Presents the Music on the Dock Summer Co
 ncert series.\nBerth 2 Ketchikan Visitors Bureau if the weather is fair.\n
 Berth 3 Shelter if the weather is stormy\nEnjoy free public music during t
 he lunch hour 12:00 -1:00 pm.
X-WR-RELCALID:83f6b1a641e8ee97116856534911863a
X-WR-TIMEZONE:America/Anchorage
BEGIN:VTIMEZONE
TZID:America/Anchorage
BEGIN:STANDARD
TZNAME:AKST
DTSTART:20201101T020000
TZOFFSETFROM:-0800
TZOFFSETTO:-0900
RDATE:20211107T020000
RDATE:20221106T020000
END:STANDARD
BEGIN:DAYLIGHT
TZNAME:AKDT
DTSTART:20210314T020000
TZOFFSETFROM:-0900
TZOFFSETTO:-0800
RDATE:20220313T020000
END:DAYLIGHT
END:VTIMEZONE
BEGIN:VEVENT
UID:2ebcf8eb-f2e7-4534-b288-36b9db4b834c
DTSTAMP:20260421T014127Z
DESCRIPTION:The city of Ketchikan Presents the Music on the Dock Summer Con
 cert series.\nBerth 2 Ketchikan Visitors Bureau if the weather is fair.\nB
 erth 3 Shelter if the weather is stormy\nEnjoy free public music during th
 e lunch hour 12:00 -1:00 pm.
DTSTART;TZID=America/Anchorage:20210715T120000
DTEND;TZID=America/Anchorage:20210715T130000
LOCATION:
SUMMARY:Paddy's Leather Breeches
END:VEVENT
END:VCALENDAR
