BEGIN:VCALENDAR
VERSION:2.0
PRODID:-//www.ketchikanarts.org//NONSGML kigkonsult.se iCalcreator 2.30.10/
 /
CALSCALE:GREGORIAN
METHOD:PUBLISH
UID:112ed568-1d06-4d9b-b1fe-c9dc29272022
X-WR-CALDESC:Jean Bartos is organizing with AML a group art pallet headed f
 rom Ketchikan to the Southeast Alaska State Fair in Haines! Meet at AML on
  July 15th at 1:00 pm to be included in the group shipment. AML will retur
 n items to Ketchikan when they will be placed in the Ketchikan Historical 
 Museum's exhibit 'Ketchikan Goes to the Fair!' If you would like to exhibi
 t at the fair  www.seakfair.org
X-WR-RELCALID:e5c27b441e1abf1e1ede6643ce6181bb
X-WR-TIMEZONE:America/Anchorage
BEGIN:VTIMEZONE
TZID:America/Anchorage
BEGIN:STANDARD
TZNAME:AKST
DTSTART:20201101T020000
TZOFFSETFROM:-0800
TZOFFSETTO:-0900
RDATE:20211107T020000
RDATE:20221106T020000
END:STANDARD
BEGIN:DAYLIGHT
TZNAME:AKDT
DTSTART:20210314T020000
TZOFFSETFROM:-0900
TZOFFSETTO:-0800
RDATE:20220313T020000
END:DAYLIGHT
END:VTIMEZONE
BEGIN:VEVENT
UID:27f54188-a52f-4ec4-bb46-24ca70bb9427
DTSTAMP:20260421T014530Z
DESCRIPTION:Jean Bartos is organizing with AML a group art pallet headed fr
 om Ketchikan to the Southeast Alaska State Fair in Haines! Meet at AML on 
 July 15th at 1:00 pm to be included in the group shipment. AML will return
  items to Ketchikan when they will be placed in the Ketchikan Historical M
 useum's exhibit 'Ketchikan Goes to the Fair!' If you would like to exhibit
  at the fair  www.seakfair.org
DTSTART;TZID=America/Anchorage:20210715T130000
DTEND;TZID=America/Anchorage:20210715T140000
LOCATION:
SUMMARY:Exhibit at the Southeast Alaska State Fair
END:VEVENT
END:VCALENDAR
