BEGIN:VCALENDAR
VERSION:2.0
PRODID:-//www.ketchikanarts.org//NONSGML kigkonsult.se iCalcreator 2.30.10/
 /
CALSCALE:GREGORIAN
METHOD:PUBLISH
UID:d312217b-76ce-4b04-8016-193c4ffffeb2
X-WR-CALDESC:First City Players presents Fish Pirates Daughter at George In
 let Cannery!\nCruise\, Dinner\, Show Package\nTWO days ONLY!!!! Book Now t
 hrough Allen Marine\n$115
X-WR-RELCALID:0e5999162120055e09e3c418a3e43516
X-WR-TIMEZONE:America/Anchorage
BEGIN:VTIMEZONE
TZID:America/Anchorage
BEGIN:STANDARD
TZNAME:AKST
DTSTART:20201101T020000
TZOFFSETFROM:-0800
TZOFFSETTO:-0900
RDATE:20211107T020000
RDATE:20221106T020000
END:STANDARD
BEGIN:DAYLIGHT
TZNAME:AKDT
DTSTART:20210314T020000
TZOFFSETFROM:-0900
TZOFFSETTO:-0800
RDATE:20220313T020000
END:DAYLIGHT
END:VTIMEZONE
BEGIN:VEVENT
UID:db26112f-76c7-4cba-9013-1ba702049071
DTSTAMP:20260421T014530Z
DESCRIPTION:First City Players presents Fish Pirates Daughter at George Inl
 et Cannery!\nCruise\, Dinner\, Show Package\nTWO days ONLY!!!! Book Now th
 rough Allen Marine\n$115
DTSTART;TZID=America/Anchorage:20210710T170000
DTEND;TZID=America/Anchorage:20210710T220000
LOCATION:Allen Marine
SUMMARY:Fish Pirates Daughter
END:VEVENT
END:VCALENDAR
