BEGIN:VCALENDAR
VERSION:2.0
PRODID:-//www.ketchikanarts.org//NONSGML kigkonsult.se iCalcreator 2.30.10/
 /
CALSCALE:GREGORIAN
METHOD:PUBLISH
UID:e55c9093-578a-465a-8bc7-c3592ea79ed6
X-WR-CALDESC:Dave\, Hannah\, and Chazz will play at the Alaska Fish House e
 very Saturday from 12- 2:00 pm\nFree to restaurant patrons.
X-WR-RELCALID:029c912d4d1ef0ac7edccb1f6c2f0192
X-WR-TIMEZONE:America/Anchorage
BEGIN:VTIMEZONE
TZID:America/Anchorage
BEGIN:STANDARD
TZNAME:AKST
DTSTART:20201101T020000
TZOFFSETFROM:-0800
TZOFFSETTO:-0900
RDATE:20211107T020000
RDATE:20221106T020000
END:STANDARD
BEGIN:DAYLIGHT
TZNAME:AKDT
DTSTART:20210314T020000
TZOFFSETFROM:-0900
TZOFFSETTO:-0800
RDATE:20220313T020000
END:DAYLIGHT
END:VTIMEZONE
BEGIN:VEVENT
UID:65bd1d6d-9548-425d-bca4-f8c91f83c20e
DTSTAMP:20260421T015214Z
DESCRIPTION:Dave\, Hannah\, and Chazz will play at the Alaska Fish House ev
 ery Saturday from 12- 2:00 pm\nFree to restaurant patrons.
DTSTART;TZID=America/Anchorage:20210710T120000
DTEND;TZID=America/Anchorage:20210710T140000
LOCATION:Alaska Fish House
SUMMARY:Dave\, Hannah\, and Chazz
END:VEVENT
END:VCALENDAR
