BEGIN:VCALENDAR
VERSION:2.0
PRODID:-//www.ketchikanarts.org//NONSGML kigkonsult.se iCalcreator 2.30.10/
 /
CALSCALE:GREGORIAN
METHOD:PUBLISH
UID:9f2d607a-1b8c-43b0-91e2-1f529b329e27
X-WR-CALDESC:Ketchikan'ss newest Dance Company will be having a performance
  at the Kay Hi Auditorium on July 9th!!! More information is coming soon!!
 ! TBA
X-WR-RELCALID:9d66b9bab9eeade70f96f1b008bba46f
X-WR-TIMEZONE:America/Anchorage
BEGIN:VTIMEZONE
TZID:America/Anchorage
BEGIN:STANDARD
TZNAME:AKST
DTSTART:20201101T020000
TZOFFSETFROM:-0800
TZOFFSETTO:-0900
RDATE:20211107T020000
RDATE:20221106T020000
END:STANDARD
BEGIN:DAYLIGHT
TZNAME:AKDT
DTSTART:20210314T020000
TZOFFSETFROM:-0900
TZOFFSETTO:-0800
RDATE:20220313T020000
END:DAYLIGHT
END:VTIMEZONE
BEGIN:VEVENT
UID:a48fbe35-7869-40a7-93e4-17ad60903127
DTSTAMP:20260421T014340Z
DESCRIPTION:Ketchikan'ss newest Dance Company will be having a performance 
 at the Kay Hi Auditorium on July 9th!!! More information is coming soon!!!
  TBA
DTSTART;TZID=America/Anchorage:20210709T190000
DTEND;TZID=America/Anchorage:20210709T210000
LOCATION:
SUMMARY:Andiamo Dance Company
END:VEVENT
END:VCALENDAR
