BEGIN:VCALENDAR
VERSION:2.0
PRODID:-//www.ketchikanarts.org//NONSGML kigkonsult.se iCalcreator 2.30.10/
 /
CALSCALE:GREGORIAN
METHOD:PUBLISH
UID:4b610de4-de0a-4b81-a59e-f2c6ace1055b
X-WR-CALDESC:Live music from Dave Rubin\, Hannah Kerick\, and Chazz Gist wi
 th the vocal talents of Penny Hanlin\n
X-WR-RELCALID:6ec69594de4b076c9eab8f031f0a27f8
X-WR-TIMEZONE:America/Anchorage
BEGIN:VTIMEZONE
TZID:America/Anchorage
BEGIN:STANDARD
TZNAME:AKST
DTSTART:20201101T020000
TZOFFSETFROM:-0800
TZOFFSETTO:-0900
RDATE:20211107T020000
RDATE:20221106T020000
END:STANDARD
BEGIN:DAYLIGHT
TZNAME:AKDT
DTSTART:20210314T020000
TZOFFSETFROM:-0900
TZOFFSETTO:-0800
RDATE:20220313T020000
END:DAYLIGHT
END:VTIMEZONE
BEGIN:VEVENT
UID:7bd1ad77-93c9-4725-80f7-1929b88b5ca8
DTSTAMP:20260421T020710Z
DESCRIPTION:Live music from Dave Rubin\, Hannah Kerick\, and Chazz Gist wit
 h the vocal talents of Penny Hanlin\n
DTSTART;TZID=America/Anchorage:20210709T190000
DTEND;TZID=America/Anchorage:20210709T200000
LOCATION:The New York Cafe
SUMMARY:Dave\, Hannah\, and Chazz at the New York
END:VEVENT
END:VCALENDAR
