BEGIN:VCALENDAR
VERSION:2.0
PRODID:-//www.ketchikanarts.org//NONSGML kigkonsult.se iCalcreator 2.30.10/
 /
CALSCALE:GREGORIAN
METHOD:PUBLISH
UID:ba5b7121-67be-475f-bd0d-b99e7df640d3
X-WR-CALDESC:80's Dance Night!!!\nLive music 4th of July!!!\n$5 Cover at th
 e door!\n
X-WR-RELCALID:47d98fbe97f38fec51993c3c08f1c063
X-WR-TIMEZONE:America/Anchorage
BEGIN:VTIMEZONE
TZID:America/Anchorage
BEGIN:STANDARD
TZNAME:AKST
DTSTART:20201101T020000
TZOFFSETFROM:-0800
TZOFFSETTO:-0900
RDATE:20211107T020000
RDATE:20221106T020000
END:STANDARD
BEGIN:DAYLIGHT
TZNAME:AKDT
DTSTART:20210314T020000
TZOFFSETFROM:-0900
TZOFFSETTO:-0800
RDATE:20220313T020000
END:DAYLIGHT
END:VTIMEZONE
BEGIN:VEVENT
UID:e38e2e39-1d5e-4681-a160-718d1df4e73f
DTSTAMP:20260421T014241Z
DESCRIPTION:80's Dance Night!!!\nLive music 4th of July!!!\n$5 Cover at the
  door!\n
DTSTART;TZID=America/Anchorage:20210704T190000
DTEND;TZID=America/Anchorage:20210704T223000
LOCATION:Creek Street Cabaret
SUMMARY:Woody's Finest Hour
END:VEVENT
END:VCALENDAR
