BEGIN:VCALENDAR
VERSION:2.0
PRODID:-//www.ketchikanarts.org//NONSGML kigkonsult.se iCalcreator 2.30.10/
 /
CALSCALE:GREGORIAN
METHOD:PUBLISH
UID:b07bf137-bd12-49a4-8192-3786b78d5a99
X-WR-CALDESC:Chazz Gist\, Cullen McCormick\, and Kalijah LeCornu play as th
 e Dude Mountain Bois at Bar Harbor Alehouse at 2:00 pm  on the 4th!
X-WR-RELCALID:7c9815b435e25b0ac26f18e261da4215
X-WR-TIMEZONE:America/Anchorage
BEGIN:VTIMEZONE
TZID:America/Anchorage
BEGIN:STANDARD
TZNAME:AKST
DTSTART:20201101T020000
TZOFFSETFROM:-0800
TZOFFSETTO:-0900
RDATE:20211107T020000
RDATE:20221106T020000
END:STANDARD
BEGIN:DAYLIGHT
TZNAME:AKDT
DTSTART:20210314T020000
TZOFFSETFROM:-0900
TZOFFSETTO:-0800
RDATE:20220313T020000
END:DAYLIGHT
END:VTIMEZONE
BEGIN:VEVENT
UID:b70bf49a-8e00-4160-b78b-8e936f50922b
DTSTAMP:20260421T014126Z
DESCRIPTION:Chazz Gist\, Cullen McCormick\, and Kalijah LeCornu play as the
  Dude Mountain Bois at Bar Harbor Alehouse at 2:00 pm  on the 4th!
DTSTART;TZID=America/Anchorage:20210704T140000
DTEND;TZID=America/Anchorage:20210704T170000
LOCATION:Bar Harbor Alehouse
SUMMARY:Dude Mountain Bois
END:VEVENT
END:VCALENDAR
