BEGIN:VCALENDAR
VERSION:2.0
PRODID:-//www.ketchikanarts.org//NONSGML kigkonsult.se iCalcreator 2.30.10/
 /
CALSCALE:GREGORIAN
METHOD:PUBLISH
UID:f2ce9460-8f2e-4be8-a5e2-c43d29ed00a0
X-WR-CALDESC:Restaurant opens at 5:00 pm \nDance Lessons start at 5:45 $5\n
 Music begins at 7:00 $10
X-WR-RELCALID:9c3c3246f023dcf51a5659e5ed2d9f2e
X-WR-TIMEZONE:America/Anchorage
BEGIN:VTIMEZONE
TZID:America/Anchorage
BEGIN:STANDARD
TZNAME:AKST
DTSTART:20201101T020000
TZOFFSETFROM:-0800
TZOFFSETTO:-0900
RDATE:20211107T020000
RDATE:20221106T020000
END:STANDARD
BEGIN:DAYLIGHT
TZNAME:AKDT
DTSTART:20210314T020000
TZOFFSETFROM:-0900
TZOFFSETTO:-0800
RDATE:20220313T020000
END:DAYLIGHT
END:VTIMEZONE
BEGIN:VEVENT
UID:629432b1-bf53-4a55-8170-45f2df5b5a54
DTSTAMP:20260421T014546Z
DESCRIPTION:Restaurant opens at 5:00 pm \nDance Lessons start at 5:45 $5\nM
 usic begins at 7:00 $10
DTSTART;TZID=America/Anchorage:20210703T170000
DTEND;TZID=America/Anchorage:20210703T213000
LOCATION:Creek Street Cabaret
SUMMARY:Latin Dance Party Weekend
END:VEVENT
END:VCALENDAR
