BEGIN:VCALENDAR
VERSION:2.0
PRODID:-//www.ketchikanarts.org//NONSGML kigkonsult.se iCalcreator 2.30.10/
 /
CALSCALE:GREGORIAN
METHOD:PUBLISH
UID:0fd35ce9-e08d-4faf-8391-e4984974f856
X-WR-CALDESC:Restaurant opens at 5:00 pm \nDance Lessons start at 5:45 $5\n
 Music begins at 7:00 $10
X-WR-RELCALID:ae53e5cceb62a590fab6c4c6292faf71
X-WR-TIMEZONE:America/Anchorage
BEGIN:VTIMEZONE
TZID:America/Anchorage
BEGIN:STANDARD
TZNAME:AKST
DTSTART:20201101T020000
TZOFFSETFROM:-0800
TZOFFSETTO:-0900
RDATE:20211107T020000
RDATE:20221106T020000
END:STANDARD
BEGIN:DAYLIGHT
TZNAME:AKDT
DTSTART:20210314T020000
TZOFFSETFROM:-0900
TZOFFSETTO:-0800
RDATE:20220313T020000
END:DAYLIGHT
END:VTIMEZONE
BEGIN:VEVENT
UID:ce04a176-9b40-4732-bfdb-1617123183ce
DTSTAMP:20260421T015010Z
DESCRIPTION:Restaurant opens at 5:00 pm \nDance Lessons start at 5:45 $5\nM
 usic begins at 7:00 $10
DTSTART;TZID=America/Anchorage:20210702T170000
DTEND;TZID=America/Anchorage:20210702T213000
LOCATION:Creek Street Cabaret
SUMMARY:Latin Dance Party Weekend
END:VEVENT
END:VCALENDAR
