BEGIN:VCALENDAR
VERSION:2.0
PRODID:-//www.ketchikanarts.org//NONSGML kigkonsult.se iCalcreator 2.30.10/
 /
CALSCALE:GREGORIAN
METHOD:PUBLISH
UID:465f82ad-f514-4cf1-8ff6-1d00d0cc1418
X-WR-CALDESC:CALL TO ARTISTS - Submission deadline June 30\, 2021\, 5:00pm
 \n\nThe Ketchikan Nonprofit Collaborative (KNC) is seeking a logo that wil
 l represent the groups’ shared missions of supporting\, nourishing\, educa
 ting\, and inspiring the residents of the Ketchikan community\, and invigo
 rating the Ketchikan economy.\n\nThe Ketchikan Nonprofit Collaborative gat
 hers together the nonprofits of Ketchikan for mutual support\, education\,
  group projects\, and to coordinate services for the betterment of Ketchik
 an residents. \n\nSelected artwork will be featured in all KNC publication
 s\, promotions\, Facebook page\, and other print and media communications.
  \n\nAll mediums will be accepted. Entries are due by 5:00pm\, AKST\, June
  30th.\n•	Entries must be original artwork\, camera-ready design\, or image
 . Images must be in a scalable vector graphic format (EPS)\, PDS\, or JPG 
 file.\n•	The design must incorporate the words “Ketchikan Nonprofit Collabo
 rative”\n•	Designs must result in a round or square logo\n•	Include the foll
 owing with your submission: your name\, mailing address\, phone number\, a
 nd email address\n•	Enclose a self-addressed\, stamped envelope if you woul
 d like your design returned if it is not chosen\n•	The original artwork of 
 the winning design will become property of the Ketchikan Nonprofit Collabo
 rative\n\nA prize of $500 will be awarded for the selected logo design. *
 \n\nMail or drop off submissions to KAAHC\, 330 Main Street\, Ketchikan\, 
 AK\, or email to KathleenL@ketchikanarts.org or submit online using the us
 ing the 'Online Submission Form' below. \n\n*KNC logo prize funds was gene
 rously donated by Alpine Real Estate
X-WR-RELCALID:68255b5280342e34f1a08ce831a9bfcc
X-WR-TIMEZONE:America/Anchorage
BEGIN:VTIMEZONE
TZID:America/Anchorage
BEGIN:STANDARD
TZNAME:AKST
DTSTART:20201101T020000
TZOFFSETFROM:-0800
TZOFFSETTO:-0900
RDATE:20211107T020000
RDATE:20221106T020000
END:STANDARD
BEGIN:DAYLIGHT
TZNAME:AKDT
DTSTART:20210314T020000
TZOFFSETFROM:-0900
TZOFFSETTO:-0800
RDATE:20220313T020000
END:DAYLIGHT
END:VTIMEZONE
BEGIN:VEVENT
UID:625e8fb6-e5d2-4a42-83db-ac022386f88f
DTSTAMP:20260421T031854Z
DESCRIPTION:CALL TO ARTISTS - Submission deadline June 30\, 2021\, 5:00pm\n
 \nThe Ketchikan Nonprofit Collaborative (KNC) is seeking a logo that will 
 represent the groups’ shared missions of supporting\, nourishing\, educati
 ng\, and inspiring the residents of the Ketchikan community\, and invigora
 ting the Ketchikan economy.\n\nThe Ketchikan Nonprofit Collaborative gathe
 rs together the nonprofits of Ketchikan for mutual support\, education\, g
 roup projects\, and to coordinate services for the betterment of Ketchikan
  residents. \n\nSelected artwork will be featured in all KNC publications\
 , promotions\, Facebook page\, and other print and media communications. 
 \n\nAll mediums will be accepted. Entries are due by 5:00pm\, AKST\, June 
 30th.\n•	Entries must be original artwork\, camera-ready design\, or image.
  Images must be in a scalable vector graphic format (EPS)\, PDS\, or JPG f
 ile.\n•	The design must incorporate the words “Ketchikan Nonprofit Collabor
 ative”\n•	Designs must result in a round or square logo\n•	Include the follo
 wing with your submission: your name\, mailing address\, phone number\, an
 d email address\n•	Enclose a self-addressed\, stamped envelope if you would
  like your design returned if it is not chosen\n•	The original artwork of t
 he winning design will become property of the Ketchikan Nonprofit Collabor
 ative\n\nA prize of $500 will be awarded for the selected logo design. *\n
 \nMail or drop off submissions to KAAHC\, 330 Main Street\, Ketchikan\, AK
 \, or email to KathleenL@ketchikanarts.org or submit online using the usin
 g the 'Online Submission Form' below. \n\n*KNC logo prize funds was genero
 usly donated by Alpine Real Estate
DTSTART;TZID=America/Anchorage:20210630T000000
DTEND;TZID=America/Anchorage:20210630T235900
LOCATION:Ketchikan Area Arts and Humanities Council\, 330 Main Street\, Ket
 chikan\, AK 99901 US
SUMMARY:Call To Artists - Logo for Ketchikan Nonprofit Collaborative
END:VEVENT
END:VCALENDAR
