BEGIN:VCALENDAR
VERSION:2.0
PRODID:-//www.ketchikanarts.org//NONSGML kigkonsult.se iCalcreator 2.30.10/
 /
CALSCALE:GREGORIAN
METHOD:PUBLISH
UID:f86d49bf-90ae-43a6-9c4c-c8bd52beaeae
X-WR-CALDESC:Stephanie Patton live at Creek Street Cabaret\n$10 Cover\nSpec
 ial Guest Hannah Karick on Violin!!!  Accompanied by Karl Richey\, Rob Hol
 ston\, Alvin Inoncillo\, Austin Hays\, Dave Kiffer\, and Dale Curtis
X-WR-RELCALID:eb7ca5e11e9d64ea70fc0bd57d374ac2
X-WR-TIMEZONE:America/Anchorage
BEGIN:VTIMEZONE
TZID:America/Anchorage
BEGIN:STANDARD
TZNAME:AKST
DTSTART:20201101T020000
TZOFFSETFROM:-0800
TZOFFSETTO:-0900
RDATE:20211107T020000
RDATE:20221106T020000
END:STANDARD
BEGIN:DAYLIGHT
TZNAME:AKDT
DTSTART:20210314T020000
TZOFFSETFROM:-0900
TZOFFSETTO:-0800
RDATE:20220313T020000
END:DAYLIGHT
END:VTIMEZONE
BEGIN:VEVENT
UID:6fe01e65-c990-41b8-b460-504f39729618
DTSTAMP:20260421T031854Z
DESCRIPTION:Stephanie Patton live at Creek Street Cabaret\n$10 Cover\nSpeci
 al Guest Hannah Karick on Violin!!!  Accompanied by Karl Richey\, Rob Hols
 ton\, Alvin Inoncillo\, Austin Hays\, Dave Kiffer\, and Dale Curtis
DTSTART;TZID=America/Anchorage:20210626T170000
DTEND;TZID=America/Anchorage:20210626T210000
LOCATION:Creek Street Cabaret
SUMMARY:Stephanie Patton at the Creek Street Cabaret
END:VEVENT
END:VCALENDAR
