BEGIN:VCALENDAR
VERSION:2.0
PRODID:-//www.ketchikanarts.org//NONSGML kigkonsult.se iCalcreator 2.30.10/
 /
CALSCALE:GREGORIAN
METHOD:PUBLISH
UID:8f421e18-796c-45ec-857f-4b7691d8362c
X-WR-CALDESC:Free Hot Dogs\, Chips\, and Birthday Cake! KRBD
X-WR-RELCALID:dee2afc8fd7c18367e5433bcdc3ea23a
X-WR-TIMEZONE:America/Anchorage
BEGIN:VTIMEZONE
TZID:America/Anchorage
BEGIN:STANDARD
TZNAME:AKST
DTSTART:20201101T020000
TZOFFSETFROM:-0800
TZOFFSETTO:-0900
RDATE:20211107T020000
RDATE:20221106T020000
END:STANDARD
BEGIN:DAYLIGHT
TZNAME:AKDT
DTSTART:20210314T020000
TZOFFSETFROM:-0900
TZOFFSETTO:-0800
RDATE:20220313T020000
END:DAYLIGHT
END:VTIMEZONE
BEGIN:VEVENT
UID:431be885-910e-4175-8236-75e23835f685
DTSTAMP:20260421T030636Z
DESCRIPTION:Free Hot Dogs\, Chips\, and Birthday Cake! KRBD
DTSTART;TZID=America/Anchorage:20210626T120000
DTEND;TZID=America/Anchorage:20210626T160000
LOCATION:
SUMMARY:KRBD's Birthday Bash
END:VEVENT
END:VCALENDAR
