BEGIN:VCALENDAR
VERSION:2.0
PRODID:-//www.ketchikanarts.org//NONSGML kigkonsult.se iCalcreator 2.30.10/
 /
CALSCALE:GREGORIAN
METHOD:PUBLISH
UID:78a1c6d9-bf63-4182-b131-b42333de3ecf
X-WR-CALDESC:Live music from Dave Rubin\, Hannah Kerick\, and Chazz Gist wi
 th the vocal talents of Penny Hanlin\n
X-WR-RELCALID:70e0abb9da54c198250960451eb77f8b
X-WR-TIMEZONE:America/Anchorage
BEGIN:VTIMEZONE
TZID:America/Anchorage
BEGIN:STANDARD
TZNAME:AKST
DTSTART:20201101T020000
TZOFFSETFROM:-0800
TZOFFSETTO:-0900
RDATE:20211107T020000
RDATE:20221106T020000
END:STANDARD
BEGIN:DAYLIGHT
TZNAME:AKDT
DTSTART:20210314T020000
TZOFFSETFROM:-0900
TZOFFSETTO:-0800
RDATE:20220313T020000
END:DAYLIGHT
END:VTIMEZONE
BEGIN:VEVENT
UID:3ee6bb2f-22e2-4c09-a7b7-a991fc5dfdab
DTSTAMP:20260421T032017Z
DESCRIPTION:Live music from Dave Rubin\, Hannah Kerick\, and Chazz Gist wit
 h the vocal talents of Penny Hanlin\n
DTSTART;TZID=America/Anchorage:20210625T190000
DTEND;TZID=America/Anchorage:20210625T200000
LOCATION:The New York Cafe
SUMMARY:Dave\, Hannah\, and Chazz at the New York
END:VEVENT
END:VCALENDAR
