BEGIN:VCALENDAR
VERSION:2.0
PRODID:-//www.ketchikanarts.org//NONSGML kigkonsult.se iCalcreator 2.30.10/
 /
CALSCALE:GREGORIAN
METHOD:PUBLISH
UID:08cb380a-fed9-44d4-bb34-45ddb10a507c
X-WR-CALDESC:Ketchikan's Annual Pride Picnic celebrating National Pride Mon
 th
X-WR-RELCALID:5a795165cec6f948d4233f89a47d06b0
X-WR-TIMEZONE:America/Anchorage
BEGIN:VTIMEZONE
TZID:America/Anchorage
BEGIN:STANDARD
TZNAME:AKST
DTSTART:20201101T020000
TZOFFSETFROM:-0800
TZOFFSETTO:-0900
RDATE:20211107T020000
RDATE:20221106T020000
END:STANDARD
BEGIN:DAYLIGHT
TZNAME:AKDT
DTSTART:20210314T020000
TZOFFSETFROM:-0900
TZOFFSETTO:-0800
RDATE:20220313T020000
END:DAYLIGHT
END:VTIMEZONE
BEGIN:VEVENT
UID:5a1f5ed6-ce9c-498f-ab19-126575a1f186
DTSTAMP:20260421T031335Z
DESCRIPTION:Ketchikan's Annual Pride Picnic celebrating National Pride Mont
 h
DTSTART;TZID=America/Anchorage:20210624T120000
DTEND;TZID=America/Anchorage:20210624T140000
LOCATION:
SUMMARY:Annual Pride Picnic
END:VEVENT
END:VCALENDAR
